BEGIN:VCALENDAR
VERSION:2.0
PRODID:-//Library Market//iCal Export//EN
BEGIN:VEVENT
SUMMARY:Pontchartrain Astronomy Society
UID:19111
DTSTAMP:20260425T010100Z
DTSTART:20260604T000000Z
DTEND:20260604T013000Z
LOCATION:4747 West Napoleon Ave, Metairie, LA 70001, United States
ROOM: Jefferson Room
DESCRIPTION:The Pontchartrain Astronomy Society was founded in 1959 and cu
 rrently has a roster of nearly 150 members from South Louisiana and South 
 Mississippi. The society’s members come from many walks of life and have
  diverse interests in amateur astronomy. The goal of the society is to enh
 ance the study and enjoyment of astronomy among its members and to promote
  an understanding and appreciation of astronomy in the community. Each mee
 ting features a speakers who talks on the subject of astronomy.
URL:https://calendar.jplibrary.net/event/pontchartrain-astronomy-society-1
 9111
END:VEVENT
END:VCALENDAR
