BEGIN:VCALENDAR
VERSION:2.0
PRODID:-//Library Market//iCal Export//EN
BEGIN:VEVENT
SUMMARY:Lego Club
UID:20471
DTSTAMP:20260423T035900Z
DTSTART:20261107T200000Z
DTEND:20261107T210000Z
LOCATION:8825 Jefferson Highway, River Ridge, LA 70123, United States
ROOM: Meeting Room
DESCRIPTION:LEGO free play for children ages six and up. LEGOs and blocks 
 will be provided. This event is for children ages 6 to 13 years old.
URL:https://calendar.jplibrary.net/event/lego-club-20471
END:VEVENT
END:VCALENDAR
