BEGIN:VCALENDAR
VERSION:2.0
PRODID:-//Library Market//iCal Export//EN
BEGIN:VEVENT
SUMMARY:West Bank Regional Afternoon Craft!: Fish Sticks
UID:24059
DTSTAMP:20260423T070900Z
DTSTART:20260517T050000Z
DTEND:20260517T050000Z
LOCATION:2751 Manhattan Boulevard, Harvey, LA 70058, United States
ROOM: Children&#039;s Stage Area
DESCRIPTION:Craft projects for kids 3+ while supplies last! Visit the Chil
 dren&#039;s Department. Bringing a large group (10 or more children and ad
 ults)? Please call (504) 364-3664 to speak with a librarian regarding rese
 rvation spots and attendance limits.
URL:https://calendar.jplibrary.net/event/afternoon-craft-24059
END:VEVENT
END:VCALENDAR
