BEGIN:VCALENDAR
VERSION:2.0
PRODID:-//Library Market//iCal Export//EN
BEGIN:VEVENT
SUMMARY:American Mah-jong
UID:27113
DTSTAMP:20260422T035700Z
DTSTART:20260618T190000Z
DTEND:20260618T210000Z
LOCATION:6646 Riverside Drive, Metairie, LA 70003, United States
ROOM: Meeting Room
DESCRIPTION:Mah-jong is a tile-based game that was developed in the 19th c
 entury in China and has spread throughout the world.Come join us at Wagner
  Library If you are interested in playing the game of Mahjong. We have Mah
 jong sets available for use in the library during open play.  Thursday af
 ternoon from 2-4 p.m. No registration required.
URL:https://calendar.jplibrary.net/event/play-american-mah-jong-27113
END:VEVENT
END:VCALENDAR
