BEGIN:VCALENDAR
VERSION:2.0
PRODID:-//Library Market//iCal Export//EN
BEGIN:VEVENT
SUMMARY:Adventures in Paleontology
UID:27636
DTSTAMP:20260425T041600Z
DTSTART:20260709T190000Z
DTEND:20260709T200000Z
LOCATION:102 Willow Drive, Gretna, LA 70053, United States
ROOM: Meeting Room
DESCRIPTION:Come to the library to learn about and see some fossils!
URL:https://calendar.jplibrary.net/event/paleontology-activity-27636
END:VEVENT
END:VCALENDAR
