BEGIN:VCALENDAR
VERSION:2.0
PRODID:-//Library Market//iCal Export//EN
BEGIN:VEVENT
SUMMARY:MakeIt: Geocaching
UID:28577
DTSTAMP:20260422T042600Z
DTSTART:20260426T180000Z
DTEND:20260426T200000Z
LOCATION:4747 West Napoleon Ave, Metairie, LA 70001, United States
ROOM: Makerspace
DESCRIPTION:DIY crafting day for local and visiting cachers!Join us to DIY
  some camouflage bottles for geocaching as well as see what technology the
  library has to offer for the world of geocaching. Supplies will be avaial
 ble on a first come first serve basis. Please feel free to bring your favo
 rite camouflage duct tape or other containers, and don&#039;t forget to br
 ing your swag for caching.
URL:https://calendar.jplibrary.net/event/makeit-geocaching-28577
END:VEVENT
END:VCALENDAR
