BEGIN:VCALENDAR
VERSION:2.0
PRODID:-//Library Market//iCal Export//EN
BEGIN:VEVENT
SUMMARY:Altered Art
UID:28704
DTSTAMP:20260421T084800Z
DTSTART:20260602T190000Z
DTEND:20260602T210000Z
LOCATION:6646 Riverside Drive, Metairie, LA 70003, United States
ROOM: Meeting Room
DESCRIPTION:Love art but don&#039;t know where to start? No problem! Add y
 our own creative touch to a secondhand painting at our Altered Art Worksho
 p. Provided mediums will include paint, collage, stickers, drawing utensil
 s and more, or feel free to bring your own. We hope you&#039;ll join us fo
 r a relaxing afternoon to learn and share new techniques with fellow artis
 tic minds! Call Zora at 504-838-1193 for details; no reservation required.
URL:https://calendar.jplibrary.net/event/altered-art-28704
END:VEVENT
END:VCALENDAR
