BEGIN:VCALENDAR
VERSION:2.0
PRODID:-//Library Market//iCal Export//EN
BEGIN:VEVENT
SUMMARY:Book Bedazzling
UID:28991
DTSTAMP:20260422T052900Z
DTSTART:20260516T190000Z
DTEND:20260516T210000Z
LOCATION:5550 Belle Terre Rd, Marrero, LA 70072, United States
ROOM: Meeting Room
DESCRIPTION:Join us for a fun and creative book bedazzling event by decora
 ting your favorite reads. Personalize your book covers with glitter, gems,
  and much more. Supplies are provided, but you are welcome to bring your o
 wn. Books will be provided, but you are also welcome to bring your own. 
URL:https://calendar.jplibrary.net/event/book-bedazzling-28991
END:VEVENT
END:VCALENDAR
