BEGIN:VCALENDAR
VERSION:2.0
PRODID:-//Library Market//iCal Export//EN
BEGIN:VEVENT
SUMMARY:JeffFit Onsite Tai Chi Class (Internal Only)
UID:29058
DTSTAMP:20260421T220700Z
DTSTART:20260527T201500Z
DTEND:20260527T211500Z
LOCATION:4747 West Napoleon Avenue, Metairie, LA 70001, United States
ROOM: Napoleon Room
DESCRIPTION:Onsite Tai Chi offered to branch staff.
URL:https://calendar.jplibrary.net/event/jefffit-onsite-tai-chi-class-inte
 rnal-only-29058
END:VEVENT
END:VCALENDAR
