BEGIN:VCALENDAR
VERSION:2.0
PRODID:-//Library Market//iCal Export//EN
BEGIN:VEVENT
SUMMARY:East Jefferson General Hospital Auxiliary
UID:29061
DTSTAMP:20260421T112800Z
DTSTART:20261008T183000Z
DTEND:20261008T203000Z
LOCATION:4747 West Napoleon Avenue, Metairie, LA 70001, United States
ROOM: Napoleon Room
DESCRIPTION:This is our first general meeting of the year.  We will be pla
 nning our Christmas Social and our Great Lady/Great Gentleman Luncheon.
URL:https://calendar.jplibrary.net/event/east-jefferson-general-hospital-a
 uxiliary-29061
END:VEVENT
END:VCALENDAR
