BEGIN:VCALENDAR
VERSION:2.0
PRODID:-//Library Market//iCal Export//EN
BEGIN:VEVENT
SUMMARY:Fiber Friends - GSQA Quilting
UID:29063
DTSTAMP:20260422T081500Z
DTSTART:20260708T150000Z
DTEND:20260708T180000Z
LOCATION:2350 Metairie Rd, Metairie, LA 70001, United States
ROOM: Meeting Room
DESCRIPTION:Sewing
URL:https://calendar.jplibrary.net/event/fiber-friends-gsqa-quilting-29063
END:VEVENT
END:VCALENDAR
