BEGIN:VCALENDAR
VERSION:2.0
PRODID:-//Library Market//iCal Export//EN
BEGIN:VEVENT
SUMMARY:Japan Club of New Orleans
UID:29070
DTSTAMP:20260422T012800Z
DTSTART:20260608T234500Z
DTEND:20260609T004500Z
LOCATION:2350 Metairie Rd, Metairie, LA 70001, United States
ROOM: Meeting Room
DESCRIPTION:Discuss Club Activities
URL:https://calendar.jplibrary.net/event/japan-club-new-orleans-29070
END:VEVENT
END:VCALENDAR
