BEGIN:VCALENDAR
VERSION:2.0
PRODID:-//Library Market//iCal Export//EN
BEGIN:VEVENT
SUMMARY:2026 Emerging Infectious Diseases and Field Epidemiology Training
UID:29083
DTSTAMP:20260422T012800Z
DTSTART:20260611T143000Z
DTEND:20260611T203000Z
LOCATION:4747 West Napoleon Ave, Metairie, LA 70001, United States
ROOM: Jefferson Room
DESCRIPTION:Annual training for healthcare infection control professionals
URL:https://calendar.jplibrary.net/event/2026-emerging-infectious-diseases
 -and-field-epidemiology-training-29083
END:VEVENT
END:VCALENDAR
