BEGIN:VCALENDAR
VERSION:2.0
PRODID:-//Library Market//iCal Export//EN
BEGIN:VEVENT
SUMMARY:JeffFit Onsite Massage Event (Internal Activity)
UID:29086
DTSTAMP:20260421T203900Z
DTSTART:20260508T154500Z
DTEND:20260508T181500Z
LOCATION:4747 West Napoleon Ave, Metairie, LA 70001, United States
ROOM: A/V Conference Room - 2nd Floor
DESCRIPTION:Onsite Massages
URL:https://calendar.jplibrary.net/event/jefffit-onsite-massage-event-inte
 rnal-activity-29086
END:VEVENT
END:VCALENDAR
