BEGIN:VCALENDAR
VERSION:2.0
PRODID:-//Library Market//iCal Export//EN
BEGIN:VEVENT
SUMMARY:Tween Art Afternoon
UID:29093
DTSTAMP:20260421T161200Z
DTSTART:20260513T223000Z
DTEND:20260513T233000Z
LOCATION:4747 West Napoleon Ave, Metairie, LA 70001, United States
ROOM: Children&#039;s Activity Room
DESCRIPTION:Join the fun in making puzzle piece picture frames to show off
  your favorite photo! Registration requested.
URL:https://calendar.jplibrary.net/event/tween-art-afternoon-29093
END:VEVENT
END:VCALENDAR
