BEGIN:VCALENDAR
VERSION:2.0
PRODID:-//Library Market//iCal Export//EN
BEGIN:VEVENT
SUMMARY:Blanco Center Debriefing Session
UID:29095
DTSTAMP:20260422T012800Z
DTSTART:20260608T150000Z
DTEND:20260608T200000Z
LOCATION:2350 Metairie Rd, Metairie, LA 70001, United States
ROOM: Meeting Room
DESCRIPTION:Hi, we are the Blanco Center at University of Louisiana at Laf
 ayette and we are getting together to debrief about the reports we just pu
 blished on Crime, Employment and Education in the State. I attend this bra
 nch regularly and suggested this meeting to be hosted in Jefferson Parish,
  so they can come and see how good it is.
URL:https://calendar.jplibrary.net/event/blanco-center-debriefing-session-
 29095
END:VEVENT
END:VCALENDAR
