BEGIN:VCALENDAR
VERSION:2.0
PRODID:-//Library Market//iCal Export//EN
BEGIN:VEVENT
SUMMARY:GSQA design group
UID:29110
DTSTAMP:20260422T020800Z
DTSTART:20260609T150000Z
DTEND:20260609T160000Z
LOCATION:4747 West Napoleon Ave, Metairie, LA 70001, United States
ROOM: Jefferson Room
DESCRIPTION:Quilt design
URL:https://calendar.jplibrary.net/event/gsqa-design-group-29110
END:VEVENT
END:VCALENDAR
