BEGIN:VCALENDAR
VERSION:2.0
PRODID:-//Library Market//iCal Export//EN
BEGIN:VEVENT
SUMMARY:GSQA design group
UID:29111
DTSTAMP:20260424T063100Z
DTSTART:20260507T150000Z
DTEND:20260507T160000Z
LOCATION:2350 Metairie Rd, Metairie, LA 70001, United States
ROOM: Meeting Room
DESCRIPTION:Quilt design
URL:https://calendar.jplibrary.net/event/gsqa-design-group-29111
END:VEVENT
END:VCALENDAR
