BEGIN:VCALENDAR
VERSION:2.0
PRODID:-//Library Market//iCal Export//EN
BEGIN:VEVENT
SUMMARY:United Way of Southeast Louisiana
UID:29165
DTSTAMP:20260422T052900Z
DTSTART:20260511T150000Z
DTEND:20260511T213000Z
LOCATION:2350 Metairie Rd, Metairie, LA 70001, United States
ROOM: Meeting Room
DESCRIPTION:This is a meeting of our Marketing and Resource Development te
 am. We all work remotely so this is our annual &quot;retreat&quot; where w
 e meet and talk about the next campaign year/strategy.
URL:https://calendar.jplibrary.net/event/united-way-southeast-louisiana-29
 165
END:VEVENT
END:VCALENDAR
