BEGIN:VCALENDAR
VERSION:2.0
PRODID:-//Library Market//iCal Export//EN
BEGIN:VEVENT
SUMMARY:Team Leader - Beitel
UID:29210
DTSTAMP:20260423T013500Z
DTSTART:20260808T143000Z
DTEND:20260808T153000Z
LOCATION:4747 West Napoleon Ave, Metairie, LA 70001, United States
ROOM: A/V Conference Room - 2nd Floor
DESCRIPTION:Community Education
URL:https://calendar.jplibrary.net/event/team-leader-29210
END:VEVENT
END:VCALENDAR
