BEGIN:VCALENDAR
VERSION:2.0
PRODID:-//Library Market//iCal Export//EN
BEGIN:VEVENT
SUMMARY:Women for a Better Louisiana
UID:29217
DTSTAMP:20260423T222700Z
DTSTART:20261021T153000Z
DTEND:20261021T183000Z
LOCATION:2350 Metairie Rd, Metairie, LA 70001, United States
ROOM: Meeting Room
DESCRIPTION:Monthly membership meeting
URL:https://calendar.jplibrary.net/event/women-better-louisiana-29217
END:VEVENT
END:VCALENDAR
