BEGIN:VCALENDAR
VERSION:2.0
PRODID:-//Library Market//iCal Export//EN
BEGIN:VEVENT
SUMMARY:Open Stitch
UID:29218
DTSTAMP:20260423T070900Z
DTSTART:20260504T221500Z
DTEND:20260505T001500Z
LOCATION:4036 Jefferson Highway, Jefferson, LA 70121, United States
ROOM: Meeting Room
DESCRIPTION:Come and work on your fiber arts projects at Rosedale Library.
   Feel free to drop in when you can between 5:15pm- 7:15pm.
URL:https://calendar.jplibrary.net/event/open-stitch-29218
END:VEVENT
END:VCALENDAR
