BEGIN:VCALENDAR
VERSION:2.0
PRODID:-//Library Market//iCal Export//EN
BEGIN:VEVENT
SUMMARY:Governor&#039;s Office Of Elderly Affairs/Elderly Protective Servi
 ces
UID:29225
DTSTAMP:20260423T185600Z
DTSTART:20260527T150000Z
DTEND:20260527T190000Z
LOCATION:2751 Manhattan Boulevard, Harvey, LA 70058, United States
ROOM: Meeting Room
DESCRIPTION:Meeting/Training
URL:https://calendar.jplibrary.net/event/governors-office-elderly-affairse
 lderly-protective-services-29225
END:VEVENT
END:VCALENDAR
