BEGIN:VCALENDAR
VERSION:2.0
PRODID:-//Library Market//iCal Export//EN
BEGIN:VEVENT
SUMMARY:Greater New Orleans Association of the Deaf General Meeting
UID:29226
DTSTAMP:20260423T215800Z
DTSTART:20261003T173000Z
DTEND:20261003T203000Z
LOCATION:2350 Metairie Rd, Metairie, LA 70001, United States
ROOM: Meeting Room
DESCRIPTION:Gathering of Deaf individuals to have a meeting to keep inform
 ed on local and state community events, news, and etc.
URL:https://calendar.jplibrary.net/event/greater-new-orleans-association-d
 eaf-general-meeting-29226
END:VEVENT
END:VCALENDAR
