BEGIN:VCALENDAR
VERSION:2.0
PRODID:-//Library Market//iCal Export//EN
BEGIN:VEVENT
SUMMARY:Jefferson Parish IT Department- Suppliers Vendor&#039;s Registrati
 on
UID:29229
DTSTAMP:20260424T083300Z
DTSTART:20260508T183000Z
DTEND:20260508T214500Z
LOCATION:4747 West Napoleon Ave, Metairie, LA 70001, United States
ROOM: Jefferson Room
DESCRIPTION:Suppliers Vendor&#039;s Registration Meeting
URL:https://calendar.jplibrary.net/event/jefferson-parish-it-department-su
 ppliers-vendors-registration-29229
END:VEVENT
END:VCALENDAR
