BEGIN:VCALENDAR
VERSION:2.0
PRODID:-//Library Market//iCal Export//EN
BEGIN:VEVENT
SUMMARY:Star Wars Day - Grand Isle Library
UID:29281
DTSTAMP:20260424T213700Z
DTSTART:20260502T190000Z
DTEND:20260502T203000Z
LOCATION:143 Ludwig Lane, Grand Isle, LA 70358, United States
ROOM: Whole Branch
DESCRIPTION:Join us @2pm for a screening of Star Wars Return Of The Jedi. 
 We will project the movie onto the wall for a big theater experience. We w
 ill also serve popcorn until we run out. All are welcome, but children und
 er 12 years of age must be accompanied by an adult at all times. Join us i
 f you can for the fun as we celebrating &quot;May the 4th be with you&quot
 ; at the Grand Isle Library!
URL:https://calendar.jplibrary.net/event/star-wars-day-grand-isle-library-
 29281
END:VEVENT
END:VCALENDAR
