BEGIN:VCALENDAR
VERSION:2.0
PRODID:-//Library Market//iCal Export//EN
BEGIN:VEVENT
SUMMARY:Lakeshore Library Presents: Celebrating Veterans Voices
UID:29297
DTSTAMP:20260426T020400Z
DTSTART:20260702T180000Z
DTEND:20260702T190000Z
LOCATION:1000 West Esplanade Ave, Metairie, LA 70005, United States
ROOM: Library Commons
DESCRIPTION:Join us for a meaningful presentation from a local veteran as 
 he shares personal stories, experiences, and reflections on service. This 
 special program will take place prior to our Stars &amp; Stripes celebrati
 on and offers a powerful opportunity to listen, learn, and honor those who
  have served.
URL:https://calendar.jplibrary.net/event/lakeshore-library-presents-celebr
 ating-veterans-voices-29297
END:VEVENT
END:VCALENDAR
