BEGIN:VCALENDAR
VERSION:2.0
PRODID:-//Library Market//iCal Export//EN
BEGIN:VEVENT
SUMMARY:The Pit Crew Craft Station: Build-A-Racer Mini Workshop
UID:29299
DTSTAMP:20260425T234300Z
DTSTART:20260815T150000Z
DTEND:20260815T170000Z
LOCATION:1000 West Esplanade Ave, Metairie, LA 70005, United States
ROOM: Library Commons
DESCRIPTION:The Pit Crew Craft Station: Build-A-Racer Mini Workshop 🏁
 Before the show begins, young racers can make a pit stop at our craft st
 ation to design and build their very own mini cardboard race car! Using si
 mple materials and plenty of imagination, kids will create a custom ride t
 o take home.This hands-on workshop is the perfect way to get revved up for
  the movie—no experience needed, just creativity and a love of all thing
 s that go vroom! 🚗✨Supplies are limited and available on a first-come
 , first-served basis.
URL:https://calendar.jplibrary.net/event/pit-crew-craft-station-build-race
 r-mini-workshop-29299
END:VEVENT
END:VCALENDAR
